BEGIN:VCALENDAR
VERSION:2.0
BEGIN:VEVENT
UID:5FD096A2-2440-4993-ABEB-4AB2A993B019
DTSTART:20260501T000000Z
DTEND:20260505T000000Z
SUMMARY:2 Days Gorilla Trekking Rwanda Tour
DESCRIPTION:Overview for 2 Days Gorilla Trekking Rwanda Tour \n \nThe 2 Day
 s  Gorilla Trekking Rwanda  Tour begins from Kigali to Volcanoes National
  Park and then back to Kigali for a city tour. During this safari there wi
 ll be enough time to trek gorillas in the mist forests and valleys.  \nWhi
 le on this tour\, you will trek mountain gorillas in their natural habitat
 s\, visit the Twin lakes (Burera & Ruhundo) and a visit to the Genocide me
 morial site\, making it an unforgettable safari experience. \n Detailed It
 inerary for 2 Days Gorilla Trekking Rwanda Tour \n \n Day 1: Transfer from
  Kigali to Musanze \nOur guide/ driver will pick you up from your apartmen
 t at 8:30 am in Kigali and your day starts with a visit to the genocide me
 morial site. \nAfterward depart for a 2-hour drive to Musanze\, the second
  largest town in Rwanda\, with its stunning backdrop of five volcanic moun
 tains – The Virungas. On reaching Musanze\, you will visit the Twin Lakes
  of Burera and Ruhondo.  \nThese Magnificent twin lakes of Bulera and Ruho
 ndo and its Swamp Rugezi are excellent photogenic\, serene\, and scenic pl
 aces for Bird watching activity. Moreover\, Rugezi swamp is one of the mos
 t seven important birding areas IBAs) in Rwanda.  \nIn the evening\, you w
 ill visit the Dian Fossey museum and the Musanze local market.  \nHave din
 ner and overnight as you prepare for gorilla trekking o the next day.  \nT
 ravel time: 2 hrs \nMeal Plan: Lunch & Dinner  \nAccommodation: The Garden
  Place Hotel  \n Day 2: Gorilla Trekking in Volcanoes National Park - Tran
 sfer to Kigali \nIn the morning after breakfast transfer to the Kinigi Par
 k headquarters by 7:00 am where you will be briefed by park rangers about
  the rules concerning trekking on your second day of 2 Days  Gorilla Trekk
 ing Rwanda  Tour. \nAfter the briefing\, start off with trekking along the
  paths in the bamboo forests\, it is an amazing activity where it can take
  between 2 to 6 hours to track the mountain gorillas. \nWhen you meet the
  gorillas face to face you will watch them jumping from branch to branch\,
  feed\, play among other things\; Only 1 hour is given to trekkers to watc
 h the gentle giants. You will also see buffaloes\, monkeys\, birds\, and e
 lephants through the forests. \nLater\, transfer back to the lodge for lun
 ch\, check out and transfer back to Kigali where you will be able to Visit
  the Genocide memorial site with information and memories of the shading o
 f blood during the 1994 genocide. Later transfer to the airport. \nMeal pl
 an: Breakfast & Lunch\nVolcanoes National Park\nMusanze-Rwanda\nRuhengeri\
 , United States\n
LOCATION:Musanze-Rwanda\, Ruhengeri\,
URL:http://washingtondc.bubblelife.com/community/washingtondc_calendar/libr
 ary/35825370/key/3511196161/2_Days_Gorilla_Trekking_Rwanda_Tour
CREATED:20220308T190507Z
LAST-MODIFIED:20220308T190507Z
DTSTAMP:20260420T000926Z
RRULE:FREQ=MONTHLY;WKST=SA;BYMONTHDAY=1
CLASS:PUBLIC
STATUS:CONFIRMED
TRANSP:TRANSPARENT
SEQUENCE:1
END:VEVENT
END:VCALENDAR
